Workbook
Name ARF: OFFSET(#REF!,0,0,COUNTA(#REF!),6)
Name ARF_db: Absolute!$B$67:$K$200
Name ARF_label_range: OFFSET(ARF_val_start,-48,-1,49,1)
Name ARF_label_range: OFFSET([0]!ARF_val_start,-48,-1,49,1)
Name ARF_label_range: OFFSET([1]!ARF_val_start,-48,-1,49,1)
Name ARF_label_range: OFFSET(ARF_val_start,-48,-1,49,1)
Name ARF_val_range: OFFSET(ARF_val_start,-48,0,49,1)
Name ARF_val_range: OFFSET([0]!ARF_val_start,-48,0,49,1)
Name ARF_val_range: OFFSET([1]!ARF_val_start,-48,0,49,1)
Name ARF_val_range: OFFSET(ARF_val_start,-48,0,49,1)
Name ARF_val_start: OFFSET(Absolute!$E$82,COUNT(Absolute!$E:$E),0,1,1)
Name ASX_Code: #REF!
Name ASX_Mcaps: #REF!
Name blank: #REF!
Name Check: #REF!
Name data_bloomberg_nta_prices: #REF!
Name data_navs: #REF!
Name data_performance: #REF!
Name data_spreads: #REF!
Name data_spreads_rozetta: #REF!
Name End_Of_Month: #REF!
Name ETC_SP: OFFSET(#REF!,0,0,COUNTA(#REF!),6)
Name ETF: OFFSET(#REF!,0,0,COUNTA(#REF!),6)
Name ETF_db: #REF!
Name ETF_label_range: OFFSET(ETF_val_start,-72,-1,73,1)
Name ETF_label_range: OFFSET([0]!ETF_val_start,-72,-1,73,1)
Name ETF_label_range: OFFSET([1]!ETF_val_start,-72,-1,73,1)
Name ETF_label_range: OFFSET(ETF_val_start,-72,-1,73,1)
Name ETF_val_range: OFFSET(ETF_val_start,-72,2,73,1)
Name ETF_val_range: OFFSET([0]!ETF_val_start,-72,2,73,1)
Name ETF_val_range: OFFSET([1]!ETF_val_start,-72,2,73,1)
Name ETF_val_range: OFFSET(ETF_val_start,-72,2,73,1)
Name ETF_val_start: OFFSET(#REF!,COUNT(#REF!),0,1,1)
Name f: #REF!
Name ICT: OFFSET(#REF!,0,0,COUNTA(#REF!),6)
Name IF: OFFSET(#REF!,0,0,COUNTA(#REF!),6)
Name IF_db: #REF!
Name IF_label_range: OFFSET(IF_val_start,-120,-1,121,1)
Name IF_label_range: OFFSET([0]!IF_val_start,-120,-1,121,1)
Name IF_label_range: OFFSET([1]!IF_val_start,-120,-1,121,1)
Name IF_label_range: OFFSET(IF_val_start,-120,-1,121,1)
Name IF_val_range: OFFSET(IF_val_start,-120,2,121,1)
Name IF_val_range: OFFSET([0]!IF_val_start,-120,2,121,1)
Name IF_val_range: OFFSET([1]!IF_val_start,-120,2,121,1)
Name IF_val_range: OFFSET(IF_val_start,-120,2,121,1)
Name IF_val_start: OFFSET(#REF!,COUNT(#REF!),0,1,1)
Name IQ_CH: 110000
Name IQ_CQ: 5000
Name IQ_CY: 10000
Name IQ_DAILY: 500000
Name IQ_FH: 100000
Name IQ_FQ: 500
Name IQ_FY: 1000
Name IQ_LTM: 2000
Name IQ_MONTH: 15000
Name IQ_NTM: 6000
Name IQ_WEEK: 50000
Name IQ_YTD: 3000
Name Issue: #REF!
Name Last_Price: #REF!

Sheet Spotlight ETPs
A9: ETP Summary - September 2026 | N9: Transaction days: 22 / Period ending: Wednesday, 30 September 2026
A80: Note: FUM figures (i.e. end-of-month FUM, FUM change and Funds Flow) and CHESS FUM figures (i.e. end-of-month CHESS FUM, CHESS FUM change and CHESS Funds Flow) are the sum total of each individual ETP and do not exclude assets that are the result of interfunding through "fund-of-ETF" structures.

Sheet Spotlight ETPs Issuers
A9: ETP Summary - September 2026 | N9: Transaction days: 22 / Period ending: Wednesday, 30 September 2026
D10: FUM | E10: FUM Change | F10: Funds Flow | G10: 12M Funds Flow | H10: CHESS FUM | I10: CHESS FUM Change | J10: CHESS Funds Flow | K10: 12M CHESS Funds Flow | L10: Value Traded
A11: Issuer | C11: Products | D11: ($m) | E11: ($m) | F11: ($m) | G11: ($m) | H11: ($m) | I11: ($m) | J11: ($m) | K11: ($m) | L11: ($m) | M11: Transactions
A12: abrdn / MSC | C12: 1 | D12: 1.7651793 | E12: 0.0621542 | F12: 0 | G12: 0.41356 | H12: 1.7651793 | I12: 0.10679252 | J12: 0.071 | K12: 0.49269382 | L12: 0.035748355 | M12: 65
A13: Alphinity / Fidante | C13: 2 | D13: 346.26101 | E13: 3.0004765 | F13: -6.9753638 | G13: -293.43903 | H13: 16.191411 | I13: -1.5698552 | J13: -1.8774084 | K13: -16.462791 | L13: 0.54061639 | M13: 59
A14: American Century / EQT | C14: 3 | D14: 156.98934 | E14: 33.535747 | F14: 32.696965 | G14: 123.3136 | H14: 56.4846 | I14: 24.1941 | J14: 24.1041 | K14: 67.7421 | L14: 14.11318 | M14: 1484
A15: Antipodes / Pinnacle | C15: 2 | D15: 593.51855 | E15: 19.031634 | F15: 24.696773 | G15: 202.63013 | H15: 518.46201 | I15: 48.632847 | J15: 38.452007 | K15: 191.50653 | L15: 29.710563 | M15: 1807
A16: Aoris / Trust Company | C16: 2 | D16: 251.31623 | E16: -16.581514 | F16: -6.580026 | G16: -33.01936 | H16: 253.00223 | I16: -16.266043 | J16: -12.28 | K16: -37.606548 | L16: 11.041524 | M16: 428
A17: Apostle Dundas / K2 | C17: 1 | D17: 8.4490343 | E17: -1.0082382 | F17: -0.970054 | G17: -8.419404 | H17: 8.4954655 | I17: -2.2203716 | J17: -2.2203716 | K17: -9.721426 | L17: 0.97139628 | M17: 30
A18: Ardea / Fidante | C18: 1 | D18: 148.0369 | E18: -1.0357466 | F18: -1.3898415 | G18: -29.855232 | H18: 147.75718 | I18: -3.0540105 | J18: -3.4128 | K18: -31.928011 | L18: 5.208684 | M18: 504
A19: Associate Global Partners | C19: 2 | D19: 455.8599 | E19: 9.9296465 | F19: 1.477286 | G19: 15.388112 | H19: 444.41178 | I19: 15.172975 | J19: 7.3912135 | K19: 22.183027 | L19: 12.504388 | M19: 2027
A20: Ausbil | C20: 4 | D20: 1415.2355 | E20: -29.236718 | F20: 15.421715 | G20: 62.971524 | H20: 62.595086 | I20: 12.669988 | J20: 13.058719 | K20: 56.10754 | L20: 5.8884701 | M20: 680
A21: Bell / Perpetual | C21: 1 | D21: 134.12701 | E21: -8.7400065 | F21: -6.1682 | G21: 138.6815 | H21: 7.6717935 | I21: 0.1947915 | J21: 0.1947915 | K21: 7.8955591 | L21: 0.3454766 | M21: 4
A22: Betashares | C22: 109 | D22: 77252.332 | E22: 1615.8414 | F22: 1531.3653 | G22: 15995.592 | H22: 77354.878 | I22: 4350.8363 | J22: 3160.1505 | K22: 16531.167 | L22: 6669.7641 | M22: 529355
A23: Candriam / Ausbil | C23: 1 | D23: 217.30848 | E23: 9.7034027 | F23: 6.5799674 | G23: 46.398626 | H23: 1.0326686 | I23: 0.30944033 | J23: 0.29426405 | K23: 1.1961126 | L23: 0.06905134 | M23: 4
... A81: Total | C81: 471 | D81: 377078.16 | E81: 5453.506 | F81: 6732.3104 | G81: 64118.01 | H81: 354493.21 | I81: 32022.653 | J81: 29705.673 | K81: 131695.39 | L81: 20728.563 | M81: 1972441
A82: Note: FUM figures (i.e. end-of-month FUM, FUM change and Funds Flow) and CHESS FUM figures (i.e. end-of-month CHESS FUM, CHESS FUM change and CHESS Funds Flow) are the sum total of each individual ETP and do not exclude assets that are the result of interfunding through "fund-of-ETF" structures.

Sheet Spotlight ETP List
B8: Exchange Traded Product Summary - September 2026 | AC8: Transaction days: 22 / Period ending: Wednesday, 30 September 2026
B9: IRESS Watchlist: /ETFASX | H9: Activity | W9: Prices | Y9: Returns
B10: ASX Code | C10: Type | D10: Issuer | E10: Fund Name | H10: MER (% p.a) ## | I10: FUM ($m)# | J10: FUM ($m) Change | K10: Funds Inflow / Outflow ($m) ** | L10: 12M Funds Inflow / Outflow ($m) ** | M10: CHESS FUM ($m)# | N10: CHESS FUM ($m) Change | O10: CHESS Funds Inflow / Outflow ($m) *** | P10: 12M CHESS Funds Inflow / Outflow ($m) *** | Q10: Transacted Value ($) | R10: Transacted Volume | S10: Number of Trades | T10: Monthly Liquidity % | U10: % Spread* | W10: Last ($) | Y10: Historical Distribution Yield | Z10: 1 Month Total Return | AA10: 1 Year Total Return | AB10: 3 Year Total Return (ann.) | AC10: 5 Year Total Return (ann.)
B11: Equity - Australia
B12: A200 | C12: ETF | D12: Betashares | E12: Betashares Australia 200 ETF | H12: 0.04 | I12: 11082.445 | J12: 28.824353 | K12: 293.92842 | L12: 2642.4942 | M12: 11077.596 | N12: 537.93223 | O12: 640.68269 | P12: 2977.1235 | Q12: 6.9940001e+08 | R12: 4707941 | S12: 43523 | T12: 0.063108821 | U12: 0.00017956487 | W12: 148.3 | Y12: 0.033742165 | Z12: -0.02395683 | AA12: 0.03994217 | AB12: 0.1269597 | AC12: 0.09365302
B13: A300 | C13: ETF | D13: Global X | E13: Global X Australia 300 ETF | H13: 0.03 | I13: 23.356921 | J13: 9.0598243 | K13: 9.496226 | L13: 17.291992 | M13: 23.346551 | N13: 10.794794 | O13: 10.8885 | P13: 20.139161 | Q13: 11393112 | R13: 217034 | S13: 482 | T13: 0.48778312 | U13: 0.0011089708 | W13: 51.85 | Y13: 0.030206191 | Z13: -0.01910707 | AA13: 0.03972888 | AB13: n/a | AC13: n/a
B14: IOZ | C14: ETF | D14: iShares | E14: iShares Core S&P/ASX 200 ETF | H14: 0.05 | I14: 9651.0423 | J14: 92.688303 | K14: 318.83043 | L14: 1996.1302 | M14: 9589.5485 | N14: 324.05007 | O14: 411.65489 | P14: 2088.4038 | Q14: 6.4801228e+08 | R14: 18199575 | S14: 38309 | T14: 0.067144279 | U14: 0.00039894773 | W14: 35.62 | Y14: 0.034436328 | Z14: -0.02384215 | AA14: 0.03688397 | AB14: 0.1252527 | AC14: 0.0918565
B15: ILC | C15: ETF | D15: iShares | E15: iShares S&P/ASX 20 ETF | H15: 0.24 | I15: 793.40234 | J15: -12.33623 | K15: -0.001643 | L15: 27.705127 | M15: 790.79745 | N15: -9.5452968 | O15: 7.81425 | P15: 35.1974 | Q15: 36133201 | R15: 1045487 | S15: 3754 | T15: 0.045542091 | U15: 0.00052884229 | W15: 34.73 | Y15: 0.037409761 | Z15: -0.01531046 | AA15: 0.07672029 | AB15: 0.1417625 | AC15: 0.1107757
B16: MVW | C16: ETF | D16: VanEck | E16: VanEck Australian Equal Weight ETF | H16: 0.35 | I16: 3313.0571 | J16: -54.874424 | K16: -21.003555 | L16: 245.0166 | M16: 3296.8283 | N16: 5.7527501 | O16: -9.6101543 | P16: 252.26788 | Q16: 1.3617269e+08 | R16: 3535116 | S16: 12853 | T16: 0.041101824 | U16: 0.0004661246 | W16: 38.74 | Y16: 0.033815178 | Z16: -0.009966778 | AA16: 0.0132453 | AB16: 0.0960172 | AC16: 0.07449584
B17: QOZ | C17: ETF | D17: Betashares | E17: Betashares FTSE RAFI Australia 200 ETF | H17: 0.4 | I17: 1426.1088 | J17: 17.817719 | K17: 34.687913 | L17: 521.96478 | M17: 1424.4862 | N17: 83.003304 | O17: 81.621756 | P17: 572.40837 | Q17: 99789052 | R17: 5156700 | S17: 10769 | T17: 0.069972958 | U17: 0.00075975055 | W17: 19.44 | Y17: 0.038005093 | Z17: -0.01219512 | AA17: 0.1406038 | AB17: 0.1691628 | AC17: 0.127354
B18: STW | C18: ETF | D18: StateStreet | E18: SPDR S&P/ASX 200 ETF | H18: 0.05 | I18: 6563.6418 | J18: -249.27354 | K18: -4.465355 | L18: 386.43245 | M18: 6467.9989 | N18: -109.07928 | O18: 37.679262 | P18: 432.45286 | Q18: 1.9846675e+08 | R18: 2499858 | S18: 13160 | T18: 0.030237291 | U18: 0.00027839638 | W18: 78.43 | Y18: 0.038544881 | Z18: -0.02005551 | AA18: 0.03837176 | AB18: 0.1253333 | AC18: 0.09062082
B19: SFY | C19: ETF | D19: StateStreet | E19: SPDR S&P/ASX 50 ETF | H19: 0.2 | I19: 708.35583 | J19: -24.317659 | K19: 0.0727775 | L19: -56.816101 | M19: 701.30196 | N19: -23.420509 | O19: -3.7264636 | P19: -60.567955 | Q19: 16452467 | R19: 212703 | S19: 1388 | T19: 0.023226275 | U19: 0.00062149672 | W19: 76.61 | Y19: 0.039881686 | Z19: -0.01622914 | AA19: 0.05639999 | AB19: 0.1259575 | AC19: 0.09860936
B20: VAS | C20: ETF | D20: Vanguard | E20: Vanguard Australian Shares Index ETF | H20: 0.07 | I20: 26675.091 | J20: -219.93036 | K20: 448.95459 | L20: 4330.5972 | M20: 26628.48 | N20: 487.16355 | O20: 713.08779 | P20: 4561.1923 | Q20: 1.0365869e+09 | R20: 9409166 | S20: 104110 | T20: 0.038859733 | U20: 0.00018199354 | W20: 110.12 | Y20: ? | Z20: -0.02488267 | AA20: 0.03203912 | AB20: 0.124438 | AC20: 0.0871854
B21: VLC | C21: ETF | D21: Vanguard | E21: Vanguard MSCI Australian Large Companies Index ETF | H21: 0.2 | I21: 310.15141 | J21: -6.7499798 | K21: -1.770508 | L21: -8.116197 | M21: 311.05692 | N21: -11.003565 | O21: -1.7433727 | P21: -12.120521 | Q21: 13615443 | R21: 151109 | S21: 2561 | T21: 0.043899342 | U21: 0.00056549728 | W21: 90.19 | Y21: 0.03331845 | Z21: -0.01560795 | AA21: 0.08624568 | AB21: 0.1382774 | AC21: 0.1124723
B22: Equity - Australia Small/Mid Cap
B23: EX20 | C23: ETF | D23: Betashares | E23: Betashares Australian Ex-20 Portfolio Diversifier ETF | H23: 0.25 | I23: 675.39856 | J23: -24.164528 | K23: 0 | L23: 134.22431 | M23: 675.00911 | N23: 29.222067 | O23: 15.65759 | P23: 144.75777 | Q23: 27066417 | R23: 1205020 | S23: 2598 | T23: 0.040074733 | U23: 0.00097846546 | W23: 22.37 | Y23: 0.028005141 | Z23: -0.03411054 | AA23: -0.03946483 | AB23: 0.09887162 | AC23: 0.05348992
B24: IMPQ | C24: Active | D24: Perennial | E24: Perennial Better Future Active ETF | H24: 0.99 | I24: 14.80092 | J24: -7.881933 | K24: -7.198206 | L24: -23.978284 | M24: 15.104354 | N24: -9.3691055 | O24: -8.2092259 | P24: -24.766421 | Q24: 7230455 | R24: 1788810 | S24: 889 | T24: 0.48851387 | U24: 0.0058189409 | W24: 4.02 | Y24: 0.022395522 | Z24: -0.03365385 | AA24: -0.1743291 | AB24: -0.02780485 | AC24: -0.05763618
B25: ISO | C25: ETF | D25: iShares | E25: iShares S&P/ASX Small Ordinaries ETF | H25: 0.55 | I25: 136.43503 | J25: 9.1050888 | K25: 12.19119 | L25: 22.550477 | M25: 136.34309 | N25: 12.090718 | O25: 9.054 | P25: 19.111221 | Q25: 9037131.8 | R25: 1786320 | S25: 479 | T25: 0.066237622 | U25: 0.0027823913 | W25: 5.03 | Y25: 0.043449304 | Z25: -0.02330097 | AA25: -0.06452084 | AB25: 0.1009499 | AC25: 0.02123469
B26: MVE | C26: ETF | D26: VanEck | E26: VanEck S&P/ASX MidCap ETF | H26: 0.45 | I26: 499.38821 | J26: -12.31858 | K26: 4.48087 | L26: 87.699469 | M26: 499.04386 | N26: 20.046089 | O26: 8.8161041 | P26: 91.007636 | Q26: 18348874 | R26: 415333 | S26: 3640 | T26: 0.036742707 | U26: 0.00057483255 | W26: 44.09 | Y26: 0.026309821 | Z26: -0.03268978 | AA26: -0.01226105 | AB26: 0.1093545 | AC26: 0.06943172
B27: MVS | C27: ETF | D27: VanEck | E27: VanEck Small Companies Masters ETF | H27: 0.49 | I27: 185.63964 | J27: -5.8496272 | K27: 0 | L27: -13.648343 | M27: 181.98058 | N27: 9.2716129 | O27: -0.0047476 | P27: -16.892663 | Q27: 4766059.8 | R27: 217741 | S27: 404 | T27: 0.025673718 | U27: 0.0017756526 | W27: 21.58 | Y27: 0.027803522 | Z27: -0.03054807 | AA27: -0.01710354 | AB27: 0.1067229 | AC27: 0.03590284
B28: SSO | C28: ETF | D28: StateStreet | E28: SPDR S&P/ASX Small Ordinaries ETF | H28: 0.5 | I28: 27.239696 | J28: -0.54366909 | K28: 0 | L28: 0.0556679 | M28: 27.209256 | N28: 2.1975029 | O28: 1.453 | P28: 1.4634648 | Q28: 940722.57 | R28: 64586 | S28: 115 | T28: 0.034534988 | U28: 0.0017151759 | W28: 14.51 | Y28: 0.092452722 | Z28: -0.02091768 | AA28: -0.06381303 | AB28: 0.1029418 | AC28: 0.02445944
B29: SMLL | C29: ETF | D29: Betashares | E29: Betashares Australian Small Companies Select ETF | H29: 0.39 | I29: 369.4438 | J29: -16.835985 | K29: -13.624727 | L29: 72.597152 | M29: 369.42513 | N29: 16.453633 | O29: -8.94 | P29: 71.488659 | Q29: 20255784 | R29: 4500582 | S29: 2338 | T29: 0.054827781 | U29: 0.0038897986 | W29: 4.47 | Y29: 0.029342506 | Z29: -0.004454343 | AA29: 0.05298954 | AB29: 0.151668 | AC29: 0.06705914
B30: SPHX | C30: ETF | D30: Spheria / Pinnacle | E30: Spheria Australian Smaller Companies Fund – Active ETF | H30: 1.1 | I30: 1.8250232 | J30: -0.1481804 | K30: -0.11742988 | L30: 1.7778417 | M30: 1.8250232 | N30: -0.071207 | O30: -0.1128062 | P30: 1.7954869 | Q30: 602696.68 | R30: 53641 | S30: 19 | T30: 0.33024056 | U30: 0.0055977009 | W30: 11 | Y30: 0.018428273 | Z30: -0.03424056 | AA30: n/a | AB30: n/a | AC30: n/a
B31: VSO | C31: ETF | D31: Vanguard | E31: Vanguard MSCI Australian Small Companies Index ETF | H31: 0.3 | I31: 1194.5561 | J31: -9.6783416 | K31: 14.707532 | L31: 136.22777 | M31: 1193.0219 | N31: 51.872148 | O31: 17.525307 | P31: 139.49929 | Q31: 47988779 | R31: 653789 | S31: 9080 | T31: 0.040172896 | U31: 0.00073573934 | W31: 73.24 | Y31: 0.047692081 | Z31: -0.02020067 | AA31: 0.006733393 | AB31: 0.1292911 | AC31: 0.06497375
B32: Equity - Australia Sectors
B33: AQLT | C33: ETF | D33: Betashares | E33: Betashares Australian Quality ETF | H33: 0.35 | I33: 1515.3768 | J33: 10.119205 | K33: 43.513037 | L33: 736.41268 | M33: 1514.41 | N33: 137.7848 | O33: 117.94298 | P33: 812.60955 | Q33: 95577725 | R33: 2741787 | S33: 12877 | T33: 0.063071922 | U33: 0.00047631261 | W33: 35.19 | Y33: 0.040917874 | Z33: -0.0225 | AA33: 0.06479389 | AB33: 0.1866373 | AC33: n/a
B34: ATEC | C34: ETF | D34: Betashares | E34: Betashares S&P/ASX Australian Technology ETF | H34: 0.48 | I34: 551.7914 | J34: -72.505802 | K34: -8.118528 | L34: 292.5096 | M34: 550.50743 | N34: -55.858686 | O34: -31.746523 | P34: 267.25877 | Q34: 57356584 | R34: 2665146 | S34: 7717 | T34: 0.10394614 | U34: 0.00090069679 | W34: 21.26 | Y34: 0.019406961 | Z34: -0.1029536 | AA34: -0.3297751 | AB34: 0.05174348 | AC34: -0.01020231
B35: AUMF | C35: ETF | D35: iShares | E35: iShares Edge MSCI Australia Multifactor ETF | H35: 0.3 | I35: 147.93573 | J35: -1.3853689 | K35: -1.564836 | L35: 15.80329 | M35: 147.90336 | N35: 2.3661534 | O35: 0 | P35: 17.439027 | Q35: 5214390.4 | R35: 133683 | S35: 482 | T35: 0.035247673 | U35: 0.0011659384 | W35: 39.38 | Y35: 0.028011833 | Z35: 0.001271294 | AA35: 0.02248076 | AB35: 0.1519012 | AC35: 0.0967934
B36: AYLD | C36: ETF | D36: Global X | E36: Global X S&P/ASX 200 Covered Call ETF | H36: 0.6 | I36: 124.70937 | J36: 9.0032853 | K36: 11.579183 | L36: 39.079143 | M36: 124.5638 | N36: 11.849087 | O36: 11.302989 | P36: 38.561155 | Q36: 14686922 | R36: 1412244 | S36: 1663 | T36: 0.1177692 | U36: 0.0031754291 | W36: 10.37 | Y36: 0.073795661 | Z36: -0.02077431 | AA36: 0.08626056 | AB36: 0.110082 | AC36: n/a
B37: AQTY | C37: ETF | D37: VanEck | E37: VanEck MSCI Australian Quality Plus ETF | H37: 0.35 | I37: 35.600478 | J37: 0.22542923 | K37: 0 | L37: -2.481413 | M37: 35.574712 | N37: -0.0866408 | O37: 0 | P37: -2.4604286 | Q37: 2543690.8 | R37: 124859 | S37: 184 | T37: 0.071451029 | U37: 0.0011141223 | W37: 20.53 | Y37: 0.038480273 | Z37: 0.001952172 | AA37: -0.04876898 | AB37: 0.05516153 | AC37: 0.02449284
B38: E200 | C38: ETF | D38: StateStreet | E38: SPDR S&P/ASX 200 ESG ETF | H38: 0.05 | I38: 472.19915 | J38: 59.61473 | K38: 74.54044 | L38: 379.04525 | M38: 472.18282 | N38: 67.603625 | O38: 80.88303 | P38: 383.57315 | Q38: 26945394 | R38: 990763 | S38: 357 | T38: 0.057063621 | U38: 0.0011044224 | W38: 26.62 | Y38: 0.045037528 | Z38: -0.01803273 | AA38: 0.0391389 | AB38: 0.1192441 | AC38: 0.09575806
B39: FAIR | C39: ETF | D39: Betashares | E39: Betashares Australian Sustainability Leaders ETF | H39: 0.49 | I39: 1026.4531 | J39: -44.964766 | K39: -12.935432 | L39: -57.110187 | M39: 1025.6046 | N39: -49.751584 | O39: -31.47681 | P39: -72.046091 | Q39: 39454750 | R39: 2136615 | S39: 3303 | T39: 0.038437947 | U39: 0.00095371363 | W39: 18.53 | Y39: 0.031211279 | Z39: -0.028826 | AA39: -0.1198538 | AB39: 0.05316292 | AC39: 0.01974917
B40: GRNV | C40: ETF | D40: VanEck | E40: VanEck MSCI Australian Sustainable Equity ETF | H40: 0.35 | I40: 250.19216 | J40: -4.4003646 | K40: 0 | L40: 21.363539 | M40: 250.10973 | N40: 9.9368862 | O40: 5.0887962 | P40: 27.043464 | Q40: 12020834 | R40: 379852 | S40: 2442 | T40: 0.048046403 | U40: 0.00076478676 | W40: 31.83 | Y40: 0.036129438 | Z40: -0.01819864 | AA40: -0.03772789 | AB40: 0.1042781 | AC40: 0.06215611
B41: GRPA | C41: ETF | D41: Global X | E41: Global X S&P Australia GARP ETF | H41: 0.25 | I41: 3.0715677 | J41: 0.9571751 | K41: 1.024624 | L41: 3.027137 | M41: 3.0715677 | N41: 0.9931886 | O41: 1.0236 | P41: 2.9695791 | Q41: 1147772.9 | R41: 44706 | S41: 21 | T41: 0.37367658 | U41: 0.0011946112 | W41: 25.59 | Y41: 0.019165807 | Z41: -0.03361027 | AA41: 0.04803061 | AB41: n/a | AC41: n/a
B42: HYLD | C42: ETF | D42: Betashares | E42: Betashares S&P Australian Shares High Yield ETF | H42: 0.25 | I42: 117.42045 | J42: 6.0737099 | K42: 6.681013 | L42: 73.559238 | M42: 117.30987 | N42: 11.273374 | O42: 15.072428 | P42: 82.112103 | Q42: 20435300 | R42: 614920 | S42: 2939 | T42: 0.17403527 | U42: 0.00074146873 | W42: 33.37 | Y42: 0.043257327 | Z42: -0.00146488 | AA42: 0.1265722 | AB42: n/a | AC42: n/a
B43: IESG | C43: ETF | D43: iShares | E43: iShares Core MSCI Australia ESG ETF | H43: 0.09 | I43: 607.47659 | J43: 22.406903 | K43: 37.41618 | L43: 234.95903 | M43: 607.47148 | N43: 73.269992 | O43: 74.808 | P43: 271.30624 | Q43: 55323133 | R43: 1778542 | S43: 1655 | T43: 0.091070396 | U43: 0.00078307993 | W43: 31.17 | Y43: 0.025561983 | Z43: -0.02563301 | AA43: -0.02349389 | AB43: 0.107977 | AC43: 0.07134531
B44: IHD | C44: ETF | D44: iShares | E44: iShares S&P/ASX Dividend Opportunities ESG Screened ETF | H44: 0.23 | I44: 407.13741 | J44: 1.0255349 | K44: 5.05428 | L44: 43.659044 | M44: 405.9806 | N44: -1.6712442 | O44: 11.854961 | P44: 50.882479 | Q44: 13520656 | R44: 802109 | S44: 1540 | T44: 0.033209072 | U44: 0.0010825241 | W44: 16.9 | Y44: 0.041372544 | Z44: -0.009958993 | AA44: 0.106141 | AB44: 0.1651384 | AC44: 0.123951
B45: MTUM | C45: ETF | D45: Betashares | E45: Betashares Australian Momentum ETF | H45: 0.35 | I45: 273.89052 | J45: -2.4437821 | K45: 5.595335 | L45: 156.67556 | M45: 273.89052 | N45: 31.925011 | O45: 22.408 | P45: 171.2756 | Q45: 19840615 | R45: 703062 | S45: 6415 | T45: 0.07243995 | U45: 0.00073056558 | W45: 28.01 | Y45: 0.021708854 | Z45: -0.02911612 | AA45: -0.0473657 | AB45: n/a | AC45: n/a
B46: MVB | C46: ETF | D46: VanEck | E46: VanEck Australian Banks ETF | H46: 0.28 | I46: 295.7442 | J46: 3.1884841 | K46: 5.110428 | L46: 39.264099 | M46: 295.07268 | N46: -14.879753 | O46: 5.3567546 | P46: 40.134056 | Q46: 19397510 | R46: 458969 | S46: 3498 | T46: 0.065588809 | U46: 0.00061928438 | W46: 42.52 | Y46: 0.044214487 | Z46: -0.006542056 | AA46: 0.0379655 | AB46: 0.2110059 | AC46: 0.1348725
B47: MVOL | C47: ETF | D47: iShares | E47: iShares Edge MSCI Australia Minimum Volatility ETF | H47: 0.3 | I47: 32.284099 | J47: 1.2614432 | K47: 1.446284 | L47: 2.867055 | M47: 31.699835 | N47: 1.197145 | O47: 1.4336 | P47: 2.8118993 | Q47: 911966.93 | R47: 25540 | S47: 131 | T47: 0.028248177 | U47: 0.0011037403 | W47: 35.84 | Y47: 0.030591016 | Z47: -0.00554939 | AA47: 0.04541225 | AB47: 0.1297352 | AC47: 0.08983509
...

Sheet Spotlight LIC List
A8: Listed Investments Summary - September 2026 | Z8: Transaction days: 22 / Period ending: Wednesday, 30 September 2026
A9: IRESS Watchlist: /XIC | F9: Activity | Q9: Prices | S9: Prices | V9: Returns
A10: ASX Code | B10: Type | C10: Fund Name | F10: MER (% p.a) | G10: Outperf Fee | H10: Mkt Cap ($m)# | I10: Mkt Cap ($m) Change | J10: Transacted Value ($) | K10: Transacted Volume | L10: Number of Transactions | M10: Monthly Liquidity % | N10: Prem/Disc % NTA (pre-tax) at NTA Date | O10: NTA Date | Q10: NTA Price | R10: Last Close | S10: Year High | T10: Year Low | V10: Historical Distribution Yield | W10: 1 Month Total Return | X10: 1 Year Total Return | Y10: 3 Year Total Return (ann.) | Z10: 5 Year Total Return (ann.)
A11: Equity - Australia
A12: AFI | B12: Shares | C12: Australian Foundation Investment Company Limited | F12: 0.14 | G12: No | H12: 8,174.83 | I12: -327.8048 | J12: 1.0349553e+08 | K12: 15399163 | L12: 25058 | M12: 0.012660267 | N12: -0.14516129 | O12: 46265 | Q12: 8.06 | R12: 6.89 | S12: 7.45 | T12: 6.33 | V12: 0.048258345 | W12: -0.03483309 | X12: -0.01149448 | Y12: 0.04858297 | Z12: 0.006195632
A13: AMH | B13: Shares | C13: AMCIL Limited | F13: 0.57 | G13: No | H13: 285.59 | I13: -0.62835121 | J13: 3191669.1 | K13: 3527607 | L13: 537 | M13: 0.011175703 | N13: -0.16513761 | O13: 46265 | Q13: 1.09 | R13: 0.91 | S13: 1.09 | T13: 0.855 | V13: 0.038461538 | W13: -0.005494506 | X13: -0.09756641 | Y13: 0.04176487 | Z13: -0.006706828
A14: ARG | B14: Shares | C14: Argo Investments Limited | F14: 0.16 | G14: No | H14: 6,922.83 | I14: -89.942844 | J14: 75092483 | K14: 8094650 | L14: 15422 | M14: 0.010847079 | N14: -0.14963504 | O14: 46265 | Q14: 10.96 | R14: 9.32 | S14: 9.57 | T14: 8.45 | V14: 0.041309013 | W14: -0.01287554 | X14: 0.04876397 | Y14: 0.0800717 | Z14: 0.06260725
A15: AUI | B15: Shares | C15: Australian United Investment Company Limited | F15: 0.1 | G15: No | H15: 2,600.78 | I15: 40.930596 | J15: 23743742 | K15: 1998387 | L15: 2151 | M15: 0.0091294695 | N15: -0.16119829 | O15: 46265 | Q15: 14.02 | R15: 11.76 | S15: 12.14 | T15: 10.27 | V15: 0.031462585 | W15: 0.0170068 | X15: 0.1156511 | Y15: 0.1374922 | Z15: 0.1008153
A16: BKI | B16: Shares | C16: BKI Investment Company Limited | F16: 0.19 | G16: No | H16: 1,460.91 | I16: -36.32104 | J16: 17095808 | K16: 9423061 | L16: 3380 | M16: 0.011702164 | N16: -0.10386473 | O16: 46265 | Q16: 2.07 | R16: 1.855 | S16: 1.97 | T16: 1.68 | V16: 0.053369272 | W16: -0.009158003 | X16: 0.09583731 | Y16: 0.08478491 | Z16: 0.09484079
A17: CAM | B17: Shares | C17: Clime Capital Limited | F17: n/a | G17: n/a | H17: 86.95 | I17: -8.9917258 | J17: 2649877 | K17: 4032696 | L17: 446 | M17: 0.030475871 | N17: -0.16969697 | O17: 46265 | Q17: 0.825 | R17: 0.685 | S17: 0.725 | T17: 0.59 | V17: 0.078832117 | W17: -0.08759124 | X17: -0.01834247 | Y17: 0.008316363 | Z17: 0.006061416
A18: CDM | B18: Shares | C18: Cadence Capital Limited | F18: 1 | G18: Yes | H18: 227.03 | I18: -7.6360561 | J18: 5031955.6 | K18: 6288924 | L18: 955 | M18: 0.022164276 | N18: -0.062126643 | O18: 46265 | Q18: 0.837 | R18: 0.785 | S18: 0.87 | T18: 0.665 | V18: 0.076433121 | W18: 0.02067472 | X18: 0.2173352 | Y18: 0.1362357 | Z18: 0.04240978
A19: CIN | B19: Shares | C19: Carlton Investments Limited | F19: 0.1 | G19: No | H19: 914.06 | I19: -34.244305 | J19: 3242760.5 | K19: 93187 | L19: 168 | M19: 0.0035476451 | N19: -0.25481267 | O19: 46265 | Q19: 48.31 | R19: 36 | S19: 37.88 | T19: 32.7 | V19: 0.032777778 | W19: -0.03611111 | X19: 0.04163698 | Y19: 0.1328089 | Z19: 0.06600345
A20: DJW | B20: Shares | C20: Djerriwarrh Investments Limited | F20: 0.41 | G20: No | H20: 761.84 | I20: -31.816574 | J20: 9717773.8 | K20: 3288545 | L20: 2150 | M20: 0.012755662 | N20: -0.098214286 | O20: 46265 | Q20: 3.36 | R20: 3.03 | S20: 3.15 | T20: 2.71 | V20: 0.051980198 | W20: -0.03630363 | X20: 0.01605655 | Y20: 0.08298186 | Z20: 0.05681647
A21: FGX | B21: Shares | C21: Future Generation Australia Limited | F21: 1 | G21: No | H21: 547.78 | I21: -6.1780143 | J21: 10048522 | K21: 7676395 | L21: 4960 | M21: 0.018344083 | N21: -0.022813136 | O21: 46265 | Q21: 1.3764 | R21: 1.345 | S21: 1.435 | T21: 1.255 | V21: 0.053531599 | W21: -0.01115242 | X21: 0.07200263 | Y21: 0.1348846 | Z21: 0.05991054
A22: FSI | B22: Shares | C22: Flagship Investments Limited | F22: n/a | G22: Yes | H22: 29.76 | I22: -1.9160659 | J22: 253733.27 | K22: 215431 | L22: 84 | M22: 0.0085259837 | N22: -0.23485322 | O22: 46265 | Q22: 1.601 | R22: 1.225 | S22: 2.1 | T22: 1.07 | V22: 0.084897959 | W22: -0.06122449 | X22: -0.3950726 | Y22: -0.06052204 | Z22: -0.07428068
A23: IBC | B23: Shares | C23: Ironbark Capital Limited | F23: 0.65 | G23: Yes | H23: 43.03 | I23: -1.6363873 | J23: 79087.2 | K23: 183434 | L23: 23 | M23: 0.0018379549 | N23: -0.23670669 | O23: 46265 | Q23: 0.583 | R23: 0.445 | S23: 0.45 | T23: 0.415 | V23: 0.056179775 | W23: -0.01551884 | X23: 0.03232214 | Y23: 0.04539866 | Z23: 0.04093341
A24: MIR | B24: Shares | C24: Mirrabooka Investments Limited | F24: 0.52 | G24: No | H24: 523.03 | I24: -49.384794 | J24: 9125370.8 | K24: 3756661 | L24: 4106 | M24: 0.017447127 | N24: -0.072727273 | O24: 46265 | Q24: 2.75 | R24: 2.55 | S24: 3.35 | T24: 2.28 | V24: 0.043137255 | W24: -0.08627451 | X24: -0.2477298 | Y24: -0.003798209 | Z24: -0.04137322
A25: NGE | B25: Shares | C25: NGE Capital Limited | F25: n/a | G25: n/a | H25: 42.04 | I25: -2.0178727 | J25: 226781.69 | K25: 173880 | L25: 37 | M25: 0.0053944265 | N25: -0.20798065 | O25: 46265 | Q25: 1.654 | R25: 1.31 | S25: 1.445 | T25: 1.1925 | V25: 0 | W25: -0.04580153 | X25: -0.007936508 | Y25: 0.1303184 | Z25: 0.1165785
A26: OEQ | B26: Shares | C26: Orion Equities Limited | F26: n/a | G26: n/a | H26: 2.73 | I26: -0.004159575 | J26: 6955.32 | K26: 39288 | L26: 14 | M26: 0.0025477363 | N26: -0.5911215 | O26: 46265 | Q26: 0.428 | R26: 0.175 | S26: 0.22 | T26: 0.175 | V26: 0 | W26: 0 | X26: -0.02777778 | Y26: 0.1852631 | Z26: -0.07608552
A27: OPH | B27: Units | C27: Ophir High Conviction Fund | F27: 1.23 | G27: Yes | H27: 529.69 | I27: -13.353497 | J27: 15686051 | K27: 6661766 | L27: 3460 | M27: 0.029613645 | N27: -0.12516582 | O27: 46265 | Q27: 2.7891 | R27: 2.44 | S27: 3.6 | T27: 2.26 | V27: 0.14888279 | W27: -0.02459016 | X27: -0.214056 | Y27: 0.07102031 | Z27: -0.03300976
A28: PIC | B28: Shares | C28: Perpetual Equity Investment Company Limited | F28: 1 | G28: No | H28: 439.2 | I28: -36.600119 | J28: 8545296.2 | K28: 7328754 | L28: 2032 | M28: 0.019456503 | N28: 0.0081632653 | O28: 46265 | Q28: 1.225 | R28: 1.235 | S28: 1.3 | T28: 1.1 | V28: 0.064777328 | W28: -0.03241063 | X28: -0.00286369 | Y28: 0.08091881 | Z28: 0.06674621
A29: WAM | B29: Shares | C29: WAM Capital Limited | F29: 1 | G29: Yes | H29: 1,291.86 | I29: -91.05606 | J29: 66687472 | K29: 56001072 | L29: 11547 | M29: 0.051621284 | N29: -0.020240303 | O29: 46265 | Q29: 1.2401 | R29: 1.215 | S29: 1.91 | T29: 0.995 | V29: 0.19135802 | W29: -0.06584362 | X29: -0.3323096 | Y29: -0.01328293 | Z29: -0.02841827
A30: WHF | B30: Shares | C30: Whitefield Industrials Limited | F30: 0.35 | G30: No | H30: 573.51 | I30: -29.335112 | J30: 11828350 | K30: 2486121 | L30: 2409 | M30: 0.020624488 | N30: -0.18121911 | O30: 46265 | Q30: 6.07 | R30: 4.97 | S30: 5.65 | T30: 4.46 | V30: 0.052816901 | W30: -0.03564597 | X30: -0.09777947 | Y30: 0.03623025 | Z30: 0.02203716
A31: WLE | B31: Shares | C31: WAM Leaders Limited | F31: 1 | G31: Yes | H31: 2,111.54 | I31: 57.862764 | J31: 58399754 | K31: 44723445 | L31: 14442 | M31: 0.027657423 | N31: -0.0083197148 | O31: 46265 | Q31: 1.3462 | R31: 1.335 | S31: 1.445 | T31: 1.25 | V31: 0.071161049 | W31: -0.02247191 | X31: 0.04596541 | Y31: 0.05928724 | Z31: 0.06176503
A32: Equity - Australia Small/Mid Cap
A33: ACQ | B33: Shares | C33: Acorn Capital Investment Fund Limited | F33: n/a | G33: n/a | H33: 79.33 | I33: -2.7044742 | J33: 1286936.8 | K33: 1457541 | L33: 254 | M33: 0.016222574 | N33: -0.1944051 | O33: 46265 | Q33: 1.1296 | R33: 0.91 | S33: 1.05 | T33: 0.845 | V33: 0.10714286 | W33: -0.03296703 | X33: 0.04692786 | Y33: 0.04234013 | Z33: -0.02314212
A34: BEL | B34: Shares | C34: Bentley Capital Limited | F34: 1 | G34: Yes | H34: .84 | I34: 0.15225584 | J34: 15770.85 | K34: 1278424 | L34: 18 | M34: 0.018774821 | N34: n/a | O34: 46265 | Q34: 0.00309 | R34: 0.009 | S34: 0.036 | T34: 0.008 | V34: 0 | W34: 0.2222222 | X34: -0.3888889 | Y34: n/a | Z34: -0.3323343
A35: ECP | B35: Shares | C35: ECP Emerging Growth Limited | F35: 1.11 | G35: Yes | H35: 11.99 | I35: -1.5151097 | J35: 108226.86 | K35: 165742 | L35: 47 | M35: 0.0090264266 | N35: -0.28431373 | O35: 46265 | Q35: 1.02 | R35: 0.73 | S35: 1.26 | T35: 0.6 | V35: 0.076027397 | W35: -0.1643836 | X35: -0.4658902 | Y35: -0.135314 | Z35: -0.11848
A36: BTI | B36: Shares | C36: Bailador Technology Investments Limited | F36: 1.75 | G36: Yes | H36: 131.08 | I36: -17.091527 | J36: 2094718.4 | K36: 2294353 | L36: 1459 | M36: 0.015980458 | N36: -0.42011834 | O36: 46265 | Q36: 1.69 | R36: 0.98 | S36: 1.28 | T36: 0.805 | V36: 0.075510204 | W36: -0.122449 | X36: -0.220669 | Y36: -0.04467224 | Z36: -0.04131573
A37: ECL | B37: Shares | C37: Excelsior Capital Ltd | F37: n/a | G37: n/a | H37: 27.54 | I37: 0 | J37: 0 | K37: 0 | L37: 0 | M37: 0 | N37: n/a | O37: 46265 | Q37: Suspended | R37: Suspended | S37: 0.0067580822 | T37: 0.0035465 | V37: n/a | W37: n/a | X37: n/a | Y37: n/a | Z37: n/a
A38: GC1 | B38: Shares | C38: Glennon Small Companies Limited | F38: 1 | G38: Yes | H38: 20.7 | I38: 0.73042902 | J38: 321187.52 | K38: 778213 | L38: 208 | M38: 0.015516305 | N38: -0.42253521 | O38: 46265 | Q38: 0.71 | R38: 0.41 | S38: 0.535 | T38: 0.37 | V38: 0.073170732 | W38: 0.1031933 | X38: -0.06733134 | Y38: 0.05587266 | Z38: -0.07195059
A39: HCF | B39: Shares | C39: H&G High Conviction Limited | F39: 1 | G39: Yes | H39: .52 | I39: 0 | J39: 0 | K39: 0 | L39: 0 | M39: 0 | N39: n/a | O39: 46265 | Q39: Suspended | R39: Suspended | S39: 0.037 | T39: 0.015 | V39: n/a | W39: n/a | X39: n/a | Y39: n/a | Z39: n/a
A40: NAC | B40: Shares | C40: Naos Ex-50 Opportunities Company Limited | F40: 1.75 | G40: Yes | H40: 27.93 | I40: 0.45794734 | J40: 724129.61 | K40: 1202891 | L40: 204 | M40: 0.025926588 | N40: -0.13043478 | O40: 46265 | Q40: 0.69 | R40: 0.6 | S40: 0.7 | T40: 0.495 | V40: 0.105 | W40: 0.04910731 | X40: 0.1800754 | Y40: -0.01328304 | Z40: -0.01399877
A41: NCC | B41: Shares | C41: Naos Emerging Opportunities Company Limited | F41: 1.25 | G41: Yes | H41: 33.95 | I41: 0.73799601 | J41: 599481.15 | K41: 1303001 | L41: 207 | M41: 0.017657766 | N41: -0.11764706 | O41: 46265 | Q41: 0.51 | R41: 0.45 | S41: 0.54 | T41: 0.37 | V41: 0.093333333 | W41: 0.05555555 | X41: 0.3144124 | Y41: -0.02252806 | Z41: -0.05369845
A42: NSC | B42: Shares | C42: Naos Small Cap Opportunities Company Limited | F42: 1.25 | G42: Yes | H42: 40.26 | I42: -1.9800194 | J42: 1147636.2 | K42: 3689568 | L42: 322 | M42: 0.02850562 | N42: 0.18518519 | O42: 46265 | Q42: 0.27 | R42: 0.32 | S42: 0.45 | T42: 0.28 | V42: 0.15625 | W42: -0.00203713 | X42: -0.02944397 | Y42: -0.114161 | Z42: -0.08144301
A43: RYD | B43: Shares | C43: Ryder Capital Limited | F43: 1.25 | G43: Yes | H43: 172.38 | I43: 2.4164939 | J43: 1481606.7 | K43: 680411 | L43: 401 | M43: 0.0085950032 | N43: -0.046370786 | O43: 46265 | Q43: 2.2126 | R43: 2.11 | S43: 2.3 | T43: 1.665 | V43: 0.056872038 | W43: 0.01421801 | X43: 0.4046513 | Y43: 0.4068719 | Z43: 0.1369184
A44: SB2 | B44: Shares | C44: Salter Brothers Emerging Companies Limited | F44: 1.5 | G44: No | H44: 50.03 | I44: -1.2611947 | J44: 141965.09 | K44: 243465 | L44: 82 | M44: 0.0028375991 | N44: -0.27294398 | O44: 46265 | Q44: 0.839 | R44: 0.61 | S44: 0.8 | T44: 0.5 | V44: 0.06557377 | W44: 0.018037 | X44: -0.09185102 | Y44: 0.05002277 | Z44: -0.02617291
A45: SEC | B45: Shares | C45: Spheria Emerging Companies Limited | F45: 1 | G45: Yes | H45: 130.67 | I45: -10.189548 | J45: 2319591.2 | K45: 1034711 | L45: 893 | M45: 0.01775152 | N45: 0.021295089 | O45: 46265 | Q45: 2.301 | R45: 2.35 | S45: 2.95 | T45: 2.08 | V45: 0.071489362 | W45: -0.06562268 | X45: -0.1112289 | Y45: 0.1433442 | Z45: 0.05340387
A46: SNC | B46: Shares | C46: Sandon Capital Investments Limited | F46: 1.25 | G46: Yes | H46: 116.43 | I46: 2.4123577 | J46: 741284.33 | K46: 1000954 | L46: 309 | M46: 0.0063667812 | N46: -0.10124725 | O46: 46265 | Q46: 0.8178 | R46: 0.735 | S46: 0.965 | T46: 0.685 | V46: 0.076734694 | W46: 0.02910824 | X46: -0.1555406 | Y46: 0.1446374 | Z46: 0.04020255
A47: WAX | B47: Shares | C47: WAM Research Limited | F47: 1 | G47: Yes | H47: 180.64 | I47: 0 | J47: 6224204.4 | K47: 7158362 | L47: 1534 | M47: 0.034456402 | N47: 0.12095933 | O47: 46265 | Q47: 0.7672 | R47: 0.86 | S47: 1.29 | T47: 0.82 | V47: 0.11627907 | W47: 0 | X47: -0.2712777 | Y47: 0.01116245 | Z47: -0.04052362
...

Sheet Spotlight A-REITS  List
A9: AREIT Product Summary - September 2026 | U9: Transaction days: 22 / Period ending: Wednesday, 30 September 2026
A10: ASX A-REIT Profiles | F10: Activity | M10: Prices | Q10: Returns
A11: ASX Code | B11: Type | C11: Fund Name | F11: Mkt Cap ($m)# | G11: Mkt Cap Change ($m) | H11: Transacted Value ($) | I11: Transacted Volume | J11: Number of Trades | K11: Monthly Liquidity % | M11: Last | N11: Year High | O11: Year Low | Q11: Historical Distribution Yield | R11: 1 Month Total Return | S11: 1 Year Total Return | T11: 3 Year Total Return (ann.) | U11: 5 Year Total Return (ann.)
A12: Property - Australia
A13: ABG | B13: Stapled | C13: Abacus Group | F13: 768.54556 | G13: -13.4 | H13: 31550370 | I13: 37825785 | J13: 37142 | K13: 0.041052049 | M13: 0.86 | N13: 1.265 | O13: 0.775 | Q13: 0.098837209 | R13: -0.01714286 | S13: -0.2347223 | T13: 0.02328308 | U13: -0.1070063
A14: APW | B14: Ord Units | C14: Aims Property Securities Fund | F14: 173.62442 | G14: 0 | H14: 47653.45 | I14: 12102 | J14: 28 | K14: 0.00027446283 | M14: 3.9 | N14: 4.2 | O14: 3 | Q14: 0 | R14: 0 | S14: 0.21875 | T14: 0.4602187 | U14: 0.2504251
A15: APZ | B15: Stapled | C15: Aspen Group | F15: 1015.5076 | G15: -131.93 | H15: 95268131 | I15: 20624238 | J15: 63479 | K15: 0.093813312 | M15: 4.43 | N15: 6.43 | O15: 4.19 | Q15: 0.0248307 | R15: -0.1210317 | S15: -0.03237396 | T15: 0.4233176 | U15: 0.2805398
A16: ARF | B16: Stapled | C16: Arena REIT. | F16: 866.4139 | G16: -80.83 | H16: 1.2055386e+08 | I16: 55080015 | J16: 89539 | K16: 0.13914119 | M16: 2.12 | N16: 3.95 | O16: 1.985 | Q16: 0.08932783 | R16: -0.06671842 | S16: -0.4173817 | T16: -0.09586088 | U16: -0.08539091
A17: BWF | B17: Fpo | C17: Blackwall Limited | F17: 16.063246 | G17: -1.03 | H17: 169310.16 | I17: 1693936 | J17: 201 | K17: 0.010540221 | M17: 0.096 | N17: 0.275 | O17: 0.092 | Q17: 0.52083333 | R17: -0.04 | S17: -0.5627847 | T17: -0.3021101 | U17: -0.19561
A18: BWP | B18: Ord Units | C18: BWP Group | F18: 2827.6082 | G18: -54.98 | H18: 1.1312712e+08 | I18: 31368143 | J18: 60684 | K18: 0.04000806 | M18: 3.6 | N18: 4.106404 | O18: 3.395 | Q18: 0.05382885 | R18: -0.01907357 | S18: 0.01984493 | T18: 0.07934075 | U18: 0.02923999
A19: CDP | B19: Ord Units | C19: Carindale Property Trust | F19: 450.91781 | G19: 4.96 | H19: 703719.77 | I19: 129417 | J19: 197 | K19: 0.0015606387 | M19: 5.45 | N19: 5.88 | O19: 5.16 | Q19: 0.054831193 | R19: 0.01113173 | S19: 0.04549067 | T19: 0.1721937 | U19: 0.110334
A20: CHC | B20: Stp Forus | C20: Charter Hall Group | F20: 8920.7272 | G20: -217.58 | H20: 1.0003231e+09 | I20: 54388442 | J20: 374213 | K20: 0.1121347 | M20: 18.86 | N20: 25.95 | O20: 17.49 | Q20: 0.026866384 | R20: -0.02380952 | S20: -0.1469073 | T20: 0.3063199 | U20: 0.05927166
A21: CIP | B21: Ord Units | C21: Centuria Industrial REIT | F21: 1773.2621 | G21: -49.95 | H21: 1.3750121e+08 | I21: 48069747 | J21: 58621 | K21: 0.07754139 | M21: 2.84 | N21: 3.59 | O21: 2.68 | Q21: 0.05959507 | R21: -0.01221131 | S21: -0.1393767 | T21: 0.03380788 | U21: -0.002196801
A22: CLW | B22: Stapled | C22: Charter Hall Long Wale REIT | F22: 2383.7757 | G22: -144.47 | H22: 1.9121409e+08 | I22: 56320734 | J22: 77801 | K22: 0.080214799 | M22: 3.3 | N22: 4.46 | O22: 3.11 | Q22: 0.077272727 | R22: -0.03870508 | S22: -0.195135 | T22: 0.07820017 | U22: -0.01345125
A23: CMW | B23: Stapled | C23: Cromwell Property Group | F23: 890.41468 | G23: -104.75 | H23: 32921178 | I23: 92124369 | J23: 28460 | K23: 0.036972861 | M23: 0.34 | N23: 0.49 | O23: 0.3175 | Q23: 0.088970588 | R23: -0.0842504 | S23: -0.1950294 | T23: 0.04681193 | U23: -0.08824821
A24: COF | B24: Ord Units | C24: Centuria Office REIT | F24: 507.73639 | G24: -17.92 | H24: 24495144 | I24: 28573194 | J24: 23041 | K24: 0.048243822 | M24: 0.85 | N24: 1.235 | O24: 0.81 | Q24: 0.11558824 | R24: -0.007906626 | S24: -0.2142624 | T24: -0.003672495 | U24: -0.1160391
... A26: CQR | B26: Ord Units | C26: Charter Hall Retail REIT | F26: 2069.1774 | G26: -209.24 | H26: 1.6957399e+08 | I26: 45882493 | J26: 90290 | K26: 0.081952367 | M26: 3.56 | N26: 4.25 | O26: 3.34 | Q26: 0.072331461 | R26: -0.07461295 | S26: -0.07831457 | T26: 0.1231744 | U26: 0.04805029
A27: DGT | B27: Stapled | C27: DigiCo Infrastructure REIT | F27: 1447.9757 | G27: -20.39 | H27: 1.241086e+08 | I27: 47874817 | J27: 80062 | K27: 0.085711798 | M27: 2.59 | N27: 3.07 | O27: 1.595 | Q27: 0.046332046 | R27: -0.01520913 | S27: 0.02372777 | T27: n/a | U27: n/a
A28: DXC | B28: Stapled | C28: Dexus Convenience Retail REIT | F28: 366.64985 | G28: -10.52 | H28: 27843030 | I28: 10026707 | J28: 11355 | K28: 0.07593902 | M28: 2.71 | N28: 2.98 | O28: 2.48 | Q28: 0.077121771 | R28: -0.005739263 | S28: -0.02073936 | T28: 0.1306615 | U28: 0.0230848
A29: DXI | B29: Stapled | C29: Dexus Industria REIT. | F29: 733.38408 | G29: -4.08 | H29: 43448922 | I29: 18439511 | J29: 34878 | K29: 0.05924443 | M29: 2.36 | N29: 2.92 | O29: 2.2 | Q29: 0.070338983 | R29: 0.01820175 | S29: -0.1135573 | T29: 0.03759584 | U29: -0.01371692
A30: DXS | B30: Stapled | C30: Dexus | F30: 6145.2113 | G30: -54.36 | H30: 5.9151484e+08 | I30: 104966243 | J30: 150025 | K30: 0.096256225 | M30: 5.74 | N30: 7.73 | O30: 5.3 | Q30: 0.06445993 | R30: -0.006920415 | S30: -0.1521742 | T30: -0.01912376 | U30: -0.06344226
A31: GDF | B31: Stapled | C31: Garda Property Group | F31: 226.27594 | G31: 1.09 | H31: 2598840.9 | I31: 2547628 | J31: 1427 | K31: 0.011485273 | M31: 1.04 | N31: 1.24 | O31: 0.99 | Q31: 0.084134615 | R31: 0.02605974 | S31: -0.0574618 | T31: 0.04694745 | U31: -0.006361043
A32: GDI | B32: Stapled | C32: GDI Property Group | F32: 337.38905 | G32: -21.59 | H32: 9241716.7 | I32: 14589474 | J32: 5319 | K32: 0.027391869 | M32: 0.625 | N32: 0.67 | O32: 0.575 | Q32: 0.08 | R32: -0.06015038 | S32: -0.005221273 | T32: 0.1411351 | U32: -0.04410353
A33: GMG | B33: Stapled | C33: Goodman Group | F33: 55848.23 | G33: -853.88 | H33: 3.365647e+09 | I33: 127171604 | J33: 642883 | K33: 0.060264167 | M33: 27.18 | N33: 34.78 | O33: 24.56 | Q33: 0.011037528 | R33: -0.01983411 | S33: -0.1629239 | T33: 0.09218786 | U33: 0.05844266
A34: GOZ | B34: Stapled | C34: Growthpoint Properties Australia | F34: 1494.1253 | G34: -75.46 | H34: 32132438 | I34: 16048941 | J34: 30825 | K34: 0.021505852 | M34: 1.98 | N34: 2.68 | O34: 1.835 | Q34: 0.092929293 | R34: -0.04807693 | S34: -0.1667837 | T34: 0.04585903 | U34: -0.07040148
A35: GPT | B35: Stapled | C35: GPT Group | F35: 8754.1889 | G35: -249.03 | H35: 9.107109e+08 | I35: 201236195 | J35: 154356 | K35: 0.10403144 | M35: 4.57 | N35: 5.75 | O35: 4.35 | Q35: 0.053063457 | R35: -0.02765957 | S35: -0.1089744 | T35: 0.1091968 | U35: 0.03180973
A36: HCW | B36: Ord Units | C36: Healthco Healthcare and Wellness REIT | F36: 407.13018 | G36: 8.25 | H36: 30014175 | I36: 39416715 | J36: 14982 | K36: 0.073721322 | M36: 0.74 | N36: 0.845 | O36: 0.6 | Q36: 0.02027027 | R36: 0.02068965 | S36: 0.04964539 | T36: -0.1772298 | U36: -0.1616407
A37: HDN | B37: Ord Units | C37: Homeco Daily Needs REIT | F37: 2259.6027 | G37: -52.31 | H37: 1.3153962e+08 | I37: 120054544 | J37: 60462 | K37: 0.058213604 | M37: 1.08 | N37: 1.415 | O37: 1.01 | Q37: 0.07962963 | R37: -0.002515751 | S37: -0.1448985 | T37: 0.04736403 | U37: -0.007960737
A38: HMC | B38: Fpo | C38: HMC Capital Limited | F38: 1262.6041 | G38: -78.4 | H38: 1.0500884e+08 | I38: 32558918 | J38: 86583 | K38: 0.083168461 | M38: 3.06 | N38: 4.62 | O38: 2.16 | Q38: 0.039215686 | R38: -0.04080769 | S38: 0.004923681 | T38: -0.1085728 | U38: -0.1422733
A39: INA | B39: Stapled | C39: Ingenia Communities Group | F39: 1972.703 | G39: 480.95 | H39: 3.1288388e+08 | I39: 74572061 | J39: 166529 | K39: 0.15860668 | M39: 4.84 | N39: 5.875 | O39: 3.49 | Q39: 0.019834711 | R39: 0.3224044 | S39: -0.08923356 | T39: 0.07021569 | U39: -0.03759648
... A51: WPR | B51: Stapled | C51: Waypoint REIT | F51: 1423.7003 | G51: -111.02 | H51: 1.0703911e+08 | I51: 47540511 | J51: 76632 | K51: 0.075183734 | M51: 2.18 | N51: 2.74 | O51: 2 | Q51: 0.078073394 | R51: -0.05370094 | S51: -0.1332845 | T51: 0.05905755 | U51: 0.02036608
A52: Property - Global
A53: URF | B53: Stapled | C53: US Masters Residential Property Fund | F53: 75.729642 | G53: -3.44 | H53: 920991.35 | I53: 8048568 | J53: 200 | K53: 0.01216157 | M53: 0.11 | N53: 0.13 | O53: 0.10467191 | Q53: 0 | R53: -0.04347826 | S53: -0.04840678 | T53: 0.09979486 | U53: 0.02996897
A54: Australian Indices
A55: XJOAI | B55: Index | C55: S&P/ASX 200 Accumulation | F55: n/a | G55: n/a | H55: 0 | I55: 0 | J55: 0 | K55: n/a | M55: 122136.55 | N55: 127307 | O55: 113530.66 | Q55: n/a | R55: -0.025781187 | S55: 0.026843476 | T55: 0.11398726 | U55: 0.076838347
A56: XSOAI | B56: Index | C56: S&P/ASX Small Ords Accumulation | F56: n/a | G56: n/a | H56: 0 | I56: 0 | J56: 0 | K56: n/a | M56: 12012.063 | N56: 13901.024 | O56: 11138.147 | Q56: n/a | R56: -0.033394014 | S56: -0.06743974 | T56: 0.10412288 | U56: 0.021778647
A57: XPJAI | B57: Index | C57: S&P/ASX 200 A-REIT Accumulation | F57: n/a | G57: n/a | H57: 0 | I57: 0 | J57: 0 | K57: n/a | M57: 73371.17 | N57: 89518.725 | O57: 69874.964 | Q57: n/a | R57: -0.015841526 | S57: -0.14335586 | T57: 0.094429621 | U57: 0.029753562
A58: XIFAI | B58: Index | C58: S&P/ASX Infrastructure Index Accumulation | F58: n/a | G58: n/a | H58: 0 | I58: 0 | J58: 0 | K58: n/a | M58: 893.53008 | N58: 936.26025 | O58: 830.82257 | Q58: n/a | R58: -0.0206162 | S58: 0.079648181 | T58: 0.10984629 | U58: 0.13093049
A59: SPBDASXT | B59: Index | C59: S&P/ASX Aust Fixed Int Idx Total Return | F59: n/a | G59: n/a | H59: 0 | I59: 0 | J59: 0 | K59: n/a | M59: 169.84172 | N59: 0 | O59: 0 | Q59: n/a | R59: n/a | S59: n/a | T59: -0.51371826 | U59: 0
A60: SPBDAGVT | B60: Index | C60: S&P/ASX Govt Bond Idx Total Return | F60: n/a | G60: n/a | H60: 0 | I60: 0 | J60: 0 | K60: n/a | M60: 3564 | N60: 0 | O60: 0 | Q60: n/a | R60: n/a | S60: n/a | T60: 0.1038175 | U60: 0.83786428
...

Sheet Spotlight Infra  List
A9: Infrastructure Summary - September 2026 | U9: Transaction days: 22 / Period ending: Wednesday, 30 September 2026
A10: ASX Infrastructure Fund Profiles | F10: Activity | M10: Prices | Q10: Returns
A11: ASX Code | B11: Type* | C11: Fund Name | F11: Mkt Cap ($m) | G11: Mkt Cap Change ($m) | H11: Transacted Value ($) | I11: Transacted Volume | J11: Number of Trades | K11: Monthly Liquidity % | L11: $ Spread | M11: Last ($) | N11: Year High ($) | O11: Year Low ($) | Q11: Historical Distribution Yield | R11: 1 Month Total Return | S11: 1 Year Total Return | T11: 3 Year Total Return (ann.) | U11: 5 Year Total Return (ann.)
A12: Equity - Infrastructure
A13: APA | B13: Stapled | C13: APA Group | F13: 14141.162 | G13: -274.49047 | H13: 7.521109e+08 | I13: 69642672 | J13: 217614 | K13: 0.053185932 | M13: 10.61 | N13: 11.3 | O13: 8.44 | Q13: 0.05466541 | R13: -0.02571166 | S13: 0.276501 | T13: 0.1660395 | U13: 0.110193
A14: ALX | B14: Stapled | C14: Atlas Arteria | F14: 5741.2992 | G14: -930.23582 | H14: 4.8315485e+08 | I14: 114771495 | J14: 125425 | K14: 0.084154271 | M14: 3.95 | N14: 5.235 | O14: 3.66 | Q14: 0.10126582 | R14: -0.09806016 | S14: -0.1178073 | T14: -0.02748699 | U14: -0.009740127
A15: TCL | B15: Stapled | C15: Transurban Group | F15: 41316.11 | G15: -3302.5184 | H15: 1.792734e+09 | I15: 133363187 | J15: 267937 | K15: 0.043390678 | M15: 13.24 | N15: 15.62 | O15: 12.82 | Q15: 0.052114804 | R15: -0.07412588 | S15: 0.005833154 | T15: 0.06312417 | U15: 0.0296323
A16: Australian Indices
A17: XJOAI | B17: Index | C17: S&P/ASX 200 Accumulation | M17: 122136.55 | N17: 127307 | O17: 113530.66 | Q17: n/a | R17: -0.025781187 | S17: 0.026843476 | T17: 0.11398726 | U17: 0.076838347
A18: XSOAI | B18: Index | C18: S&P/ASX Small Ords Accumulation | M18: 12012.063 | N18: 13901.024 | O18: 11138.147 | Q18: n/a | R18: -0.033394014 | S18: -0.06743974 | T18: 0.10412288 | U18: 0.021778647
A19: XPJAI | B19: Index | C19: S&P/ASX 200 A-REIT Accumulation | M19: 73371.17 | N19: 89518.725 | O19: 69874.964 | Q19: n/a | R19: -0.015841526 | S19: -0.14335586 | T19: 0.094429621 | U19: 0.029753562
A20: XIFAI | B20: Index | C20: S&P/ASX Infrastructure Index Accumulation | M20: 893.53008 | N20: 936.26025 | O20: 830.82257 | Q20: n/a | R20: -0.0206162 | S20: 0.079648181 | T20: 0.10984629 | U20: 0.13093049
A21: SPBDASXT | B21: Index | C21: S&P/ASX Aust Fixed Int Idx Total Return | M21: 169.84172 | N21: 0 | O21: 0 | Q21: n/a | R21: n/a | S21: n/a | T21: -0.51371826 | U21: 0
A22: SPBDAGVT | B22: Index | C22: S&P/ASX Govt Bond Idx Total Return | M22: 3564 | N22: 0 | O22: 0 | Q22: n/a | R22: n/a | S22: n/a | T22: 0.1038175 | U22: 0.83786428
A24: # The Market Value for each product is based off the last reported number of units recorded in CHESS multiplied by the closing price on the last Transaction day of the month. Any updates to the number of units on issue received post the last Transaction day of the month are not picked up until the following month.
A26: All values are as at Sep-26. Month Total return, 1/3&5 year annualised return data provided by Bloomberg. Dividends are reinvested. Gross dividends are used in the calculation for returns. Price is used to calculate total returns.
A29: Past Performance is not a reliable indicator of future performance.
A43: Information provided does not constitute financial product advice. You should obtain independent advice from an Australian financial services licensee before making any financial decisions. Although ASX Limited ABN 98 008 624 691 and its related bodies corporate (“ASX”) has made every effort to ensure the accuracy of the information as at the date of publication, ASX does not give any warranty or representation as to the accuracy, reliability or completeness of the information. To the extent permitted by law, ASX and its employees, officers and contractors shall not be liable for any loss or damage arising in any way (including by way of negligence) from or in connection with any information provided or omitted or from any one acting or refraining to act in reliance on this information.
A45: © Copyright 2024 ASX Operations Pty Limited ABN 42 004 523 782. All rights reserved 2024
A46: All values are as at Sep-26. Month Total return, 1/3&5 year annualised return data provided by Bloomberg. Dividends are reinvested. Gross dividends are used in the calculation for returns. Price is used to calculate total returns.
A67: All values are as at Sep-26. Month Total return, 1/3&5 year annualised return data provided by Bloomberg. Dividends are reinvested. Gross dividends are used in the calculation for returns. Price is used to calculate total returns.

Sheet Instructions

Sheet Top FUM and Traded
A8: ="Investment Product Summary - "&TEXT(#REF!,"mmmm yyyy") -> #REF! | M8: ="Transaction days: "&#REF!&" / Period ending: "&TEXT(#REF!,"dddd, dd mmmm yyyy") -> #REF!
A10: ETPs | H10: mFunds | I10: Last 12 months ($m)
A11: ASX code | B11: Fund Name | C11: 43678 | D11: 43647 | E11: % change | H11: ASX Code | I11: Fund Name | J11: 43678 | K11: 43647 | L11: % change
A12: 1 | H12: 1
A13: 2 | H13: 2
A14: 3 | H14: 3
A15: 4 | H15: 4
A16: 5 | H16: 5
A17: 6 | H17: 6
A18: 7 | H18: 7
A19: 8 | H19: 8
A20: 9 | H20: 9
A21: 10 | H21: 10

Sheet Spotlight mFund Client
A7: Month: | B7: =#REF! -> #REF! | E7: Transaction days: | F7: =#REF! -> #REF! | H7: Period ending: | I7: =#REF! -> #REF!
A8: ISSUER & PRODUCT SUMMARY
B10: mFund
B11: Fund Managers | D11: =COUNTA(#REF!) -> 1
B12: mFund Products | D12: =+#REF! -> #REF!
E36: Top 3 Inflows by Asset Class
B38: Equity - Australia | G38: Equity - Global
B39: =+#REF! -> #REF! | G39: =+#REF! -> #REF!
B40: =+#REF! -> #REF! | G40: =+#REF! -> #REF!
B41: =+#REF! -> #REF! | G41: =+#REF! -> #REF!
B44: Fixed Income - Australia | G44: Fixed Income - Global
B45: =+#REF! -> #REF! | G45: =+#REF! -> #REF!
B46: =+#REF! -> #REF! | G46: =+#REF! -> #REF!
B47: =+#REF! -> #REF! | G47: =+#REF! -> #REF!
B50: Mixed Asset | G50: Property
B51: =+#REF! -> #REF! | G51: =+#REF! -> #REF!
B52: =+#REF! -> #REF! | G52: =+#REF! -> #REF!
B53: =+#REF! -> #REF! | G53: =+#REF! -> #REF!

Sheet mFund Branding
A1: Monthly Statistics
A3: =+'Spotlight mFund Client'!$B$7 -> #REF!
A11: mFund
A12: Fund Managers | C12: =+'Spotlight mFund Client'!D11 -> 1
A13: mFund Products | C13: =+'Spotlight mFund Client'!D12 -> #REF!
A19: Top 3 Inflows by Asset Class
A20: Lists the top three mFund products
A21: under each asset class.
A23: Equity - Australia | F23: Equity - Global
A24: =+#REF! -> #REF! | B24: =+#REF! -> #REF! | E24: a | F24: =+#REF! -> #REF! | G24: =+#REF! -> #REF! | K24: 0
A25: =+#REF! -> #REF! | B25: =+#REF! -> #REF! | E25: a | F25: =+#REF! -> #REF! | G25: =+#REF! -> #REF! | K25: 0
A26: =+#REF! -> #REF! | B26: =+#REF! -> #REF! | E26: a | F26: =+#REF! -> #REF! | G26: =+#REF! -> #REF! | K26: 0
E27: a | K27: 0
A28: Fixed Income - Australia | E28: a | F28: Fixed Income - Global | K28: 0
A29: =+#REF! -> #REF! | B29: =+#REF! -> #REF! | E29: a | F29: =+#REF! -> #REF! | G29: =+#REF! -> #REF! | K29: 0
A30: =+#REF! -> #REF! | B30: =+#REF! -> #REF! | E30: a | F30: =+#REF! -> #REF! | G30: =+#REF! -> #REF! | K30: 0
A31: =+#REF! -> #REF! | B31: =+#REF! -> #REF! | E31: a | F31: =+#REF! -> #REF! | G31: =+#REF! -> #REF! | K31: 0
E32: a | K32: 0
A33: Mixed Asset | E33: a | F33: Property | K33: 0
A34: =+#REF! -> #REF! | B34: =+#REF! -> #REF! | E34: a | F34: =+#REF! -> #REF! | G34: =+#REF! -> #REF! | K34: 0
A35: =+#REF! -> #REF! | B35: =+#REF! -> #REF! | E35: a | F35: =+#REF! -> #REF! | G35: =+#REF! -> #REF! | K35: 0
A36: =+#REF! -> #REF! | B36: =+#REF! -> #REF! | E36: a | F36: =+#REF! -> #REF! | G36: =+#REF! -> #REF! | K36: 0

Sheet Spotlight MFSA List
A8: ="Single Asset Exchange Traded Product Summary - "&TEXT(#REF!,"mmmm yyyy") -> #REF! | X8: ="Transaction days: "&#REF!&" / Period ending: "&TEXT(#REF!,"dddd, dd mmmm yyyy") -> #REF!
A9: IRESS Watchlist: /XTB | F9: Activity | P9: Prices | T9: Returns
A10: ASX Code | B10: Type* | C10: Fund Name | F10: MER (% p.a) | G10: FUM ($m)# | H10: FUM ($m) Change | I10: Funds Inflow / Outflow ($m) *** | J10: Transacted Value ($) | K10: Transacted Volume | L10: Number of Trades | M10: Monthly Liquidity % | N10: % Spread* | P10: Last | Q10: Year High | R10: Year Low | T10: Historical Distribution Yield | U10: 1 Month Total Return | V10: 1 Year Total Return | W10: 3 Year Total Return (ann.) | X10: 5 Year Total Return (ann.)
A11: Equity - Australia
A12: A200 | B12: MF | C12: =VLOOKUP(A12,#REF!,2,FALSE) -> #REF! | F12: =VLOOKUP(A12,#REF!,6,FALSE) -> #REF! | G12: =VLOOKUP(A12,#REF!,8,FALSE)/1000000 -> #REF! | H12: =VLOOKUP(A12,#REF!,14,FALSE)/1000000 -> #REF! | I12: =VLOOKUP(A12,#REF!,18,FALSE)/1000000 -> #REF! | J12: =VLOOKUP(A12,#REF!,5,FALSE) -> #REF! | K12: =VLOOKUP(A12,#REF!,7,FALSE) -> #REF! | L12: =VLOOKUP(A12,#REF!,4,FALSE) -> #REF! | M12: =_xlfn.IFNA(VLOOKUP(A12,#REF!,5,FALSE),"n/a") -> #REF! | N12: =_xlfn.IFNA(VLOOKUP(A12,#REF!,7,FALSE),"n/a") -> #REF! | P12: =VLOOKUP($A12,#REF!,6,FALSE)/100 -> #REF! | Q12: =VLOOKUP($A12,#REF!,21,FALSE)/100 -> #REF! | R12: =VLOOKUP($A12,#REF!,22,FALSE)/100 -> #REF! | T12: =IFERROR((VLOOKUP($A12,#REF!,20,FALSE)/100)/P12,"n/a") -> n/a | U12: =IFERROR(VLOOKUP($A12,#REF!,3,FALSE),"n/a") -> n/a | V12: =IFERROR(VLOOKUP($A12,#REF!,4,FALSE),"n/a") -> n/a | W12: =IFERROR(VLOOKUP($A12,#REF!,5,FALSE),"n/a") -> n/a | X12: =IFERROR(VLOOKUP($A12,#REF!,6,FALSE),"n/a") -> n/a
A13: IOZ | B13: MF | C13: =VLOOKUP(A13,#REF!,2,FALSE) -> #REF! | F13: =VLOOKUP(A13,#REF!,6,FALSE) -> #REF! | G13: =VLOOKUP(A13,#REF!,8,FALSE)/1000000 -> #REF! | H13: =VLOOKUP(A13,#REF!,14,FALSE)/1000000 -> #REF! | I13: =VLOOKUP(A13,#REF!,18,FALSE)/1000000 -> #REF! | J13: =VLOOKUP(A13,#REF!,5,FALSE) -> #REF! | K13: =VLOOKUP(A13,#REF!,7,FALSE) -> #REF! | L13: =VLOOKUP(A13,#REF!,4,FALSE) -> #REF! | M13: =_xlfn.IFNA(VLOOKUP(A13,#REF!,5,FALSE),"n/a") -> #REF! | N13: =_xlfn.IFNA(VLOOKUP(A13,#REF!,7,FALSE),"n/a") -> #REF! | P13: =IFERROR(VLOOKUP($A13,#REF!,6,FALSE)/100,"n/a") -> n/a | Q13: =VLOOKUP($A13,#REF!,21,FALSE)/100 -> #REF! | R13: =VLOOKUP($A13,#REF!,22,FALSE)/100 -> #REF! | T13: =IFERROR((VLOOKUP($A13,#REF!,20,FALSE)/100)/P13,"n/a") -> n/a | U13: =IFERROR(VLOOKUP($A13,#REF!,3,FALSE),"n/a") -> n/a | V13: =IFERROR(VLOOKUP($A13,#REF!,4,FALSE),"n/a") -> n/a | W13: =IFERROR(VLOOKUP($A13,#REF!,5,FALSE),"n/a") -> n/a | X13: =IFERROR(VLOOKUP($A13,#REF!,6,FALSE),"n/a") -> n/a
A14: ILC | B14: MF | C14: =VLOOKUP(A14,#REF!,2,FALSE) -> #REF! | F14: =VLOOKUP(A14,#REF!,6,FALSE) -> #REF! | G14: =VLOOKUP(A14,#REF!,8,FALSE)/1000000 -> #REF! | H14: =VLOOKUP(A14,#REF!,14,FALSE)/1000000 -> #REF! | I14: =VLOOKUP(A14,#REF!,18,FALSE)/1000000 -> #REF! | J14: =VLOOKUP(A14,#REF!,5,FALSE) -> #REF! | K14: =VLOOKUP(A14,#REF!,7,FALSE) -> #REF! | L14: =VLOOKUP(A14,#REF!,4,FALSE) -> #REF! | M14: =_xlfn.IFNA(VLOOKUP(A14,#REF!,5,FALSE),"n/a") -> #REF! | N14: =_xlfn.IFNA(VLOOKUP(A14,#REF!,7,FALSE),"n/a") -> #REF! | P14: =IFERROR(VLOOKUP($A14,#REF!,6,FALSE)/100,"n/a") -> n/a | Q14: =VLOOKUP($A14,#REF!,21,FALSE)/100 -> #REF! | R14: =VLOOKUP($A14,#REF!,22,FALSE)/100 -> #REF! | T14: =IFERROR((VLOOKUP($A14,#REF!,20,FALSE)/100)/P14,"n/a") -> n/a | U14: =IFERROR(VLOOKUP($A14,#REF!,3,FALSE),"n/a") -> n/a | V14: =IFERROR(VLOOKUP($A14,#REF!,4,FALSE),"n/a") -> n/a | W14: =IFERROR(VLOOKUP($A14,#REF!,5,FALSE),"n/a") -> n/a | X14: =IFERROR(VLOOKUP($A14,#REF!,6,FALSE),"n/a") -> n/a
A15: MVW | B15: MF | C15: =VLOOKUP(A15,#REF!,2,FALSE) -> #REF! | F15: =VLOOKUP(A15,#REF!,6,FALSE) -> #REF! | G15: =VLOOKUP(A15,#REF!,8,FALSE)/1000000 -> #REF! | H15: =VLOOKUP(A15,#REF!,14,FALSE)/1000000 -> #REF! | I15: =VLOOKUP(A15,#REF!,18,FALSE)/1000000 -> #REF! | J15: =VLOOKUP(A15,#REF!,5,FALSE) -> #REF! | K15: =VLOOKUP(A15,#REF!,7,FALSE) -> #REF! | L15: =VLOOKUP(A15,#REF!,4,FALSE) -> #REF! | M15: =_xlfn.IFNA(VLOOKUP(A15,#REF!,5,FALSE),"n/a") -> #REF! | N15: =_xlfn.IFNA(VLOOKUP(A15,#REF!,7,FALSE),"n/a") -> #REF! | P15: =IFERROR(VLOOKUP($A15,#REF!,6,FALSE)/100,"n/a") -> n/a | Q15: =VLOOKUP($A15,#REF!,21,FALSE)/100 -> #REF! | R15: =VLOOKUP($A15,#REF!,22,FALSE)/100 -> #REF! | T15: =IFERROR((VLOOKUP($A15,#REF!,20,FALSE)/100)/P15,"n/a") -> n/a | U15: =IFERROR(VLOOKUP($A15,#REF!,3,FALSE),"n/a") -> n/a | V15: =IFERROR(VLOOKUP($A15,#REF!,4,FALSE),"n/a") -> n/a | W15: =IFERROR(VLOOKUP($A15,#REF!,5,FALSE),"n/a") -> n/a | X15: =IFERROR(VLOOKUP($A15,#REF!,6,FALSE),"n/a") -> n/a
A16: QOZ | B16: MF | C16: =VLOOKUP(A16,#REF!,2,FALSE) -> #REF! | F16: =VLOOKUP(A16,#REF!,6,FALSE) -> #REF! | G16: =VLOOKUP(A16,#REF!,8,FALSE)/1000000 -> #REF! | H16: =VLOOKUP(A16,#REF!,14,FALSE)/1000000 -> #REF! | I16: =VLOOKUP(A16,#REF!,18,FALSE)/1000000 -> #REF! | J16: =VLOOKUP(A16,#REF!,5,FALSE) -> #REF! | K16: =VLOOKUP(A16,#REF!,7,FALSE) -> #REF! | L16: =VLOOKUP(A16,#REF!,4,FALSE) -> #REF! | M16: =_xlfn.IFNA(VLOOKUP(A16,#REF!,5,FALSE),"n/a") -> #REF! | N16: =_xlfn.IFNA(VLOOKUP(A16,#REF!,7,FALSE),"n/a") -> #REF! | P16: =IFERROR(VLOOKUP($A16,#REF!,6,FALSE)/100,"n/a") -> n/a | Q16: =VLOOKUP($A16,#REF!,21,FALSE)/100 -> #REF! | R16: =VLOOKUP($A16,#REF!,22,FALSE)/100 -> #REF! | T16: =IFERROR((VLOOKUP($A16,#REF!,20,FALSE)/100)/P16,"n/a") -> n/a | U16: =IFERROR(VLOOKUP($A16,#REF!,3,FALSE),"n/a") -> n/a | V16: =IFERROR(VLOOKUP($A16,#REF!,4,FALSE),"n/a") -> n/a | W16: =IFERROR(VLOOKUP($A16,#REF!,5,FALSE),"n/a") -> n/a | X16: =IFERROR(VLOOKUP($A16,#REF!,6,FALSE),"n/a") -> n/a
A17: STW | B17: MF | C17: =VLOOKUP(A17,#REF!,2,FALSE) -> #REF! | F17: =VLOOKUP(A17,#REF!,6,FALSE) -> #REF! | G17: =VLOOKUP(A17,#REF!,8,FALSE)/1000000 -> #REF! | H17: =VLOOKUP(A17,#REF!,14,FALSE)/1000000 -> #REF! | I17: =VLOOKUP(A17,#REF!,18,FALSE)/1000000 -> #REF! | J17: =VLOOKUP(A17,#REF!,5,FALSE) -> #REF! | K17: =VLOOKUP(A17,#REF!,7,FALSE) -> #REF! | L17: =VLOOKUP(A17,#REF!,4,FALSE) -> #REF! | M17: =_xlfn.IFNA(VLOOKUP(A17,#REF!,5,FALSE),"n/a") -> #REF! | N17: =_xlfn.IFNA(VLOOKUP(A17,#REF!,7,FALSE),"n/a") -> #REF! | P17: =IFERROR(VLOOKUP($A17,#REF!,6,FALSE)/100,"n/a") -> n/a | Q17: =VLOOKUP($A17,#REF!,21,FALSE)/100 -> #REF! | R17: =VLOOKUP($A17,#REF!,22,FALSE)/100 -> #REF! | T17: =IFERROR((VLOOKUP($A17,#REF!,20,FALSE)/100)/P17,"n/a") -> n/a | U17: =IFERROR(VLOOKUP($A17,#REF!,3,FALSE),"n/a") -> n/a | V17: =IFERROR(VLOOKUP($A17,#REF!,4,FALSE),"n/a") -> n/a | W17: =IFERROR(VLOOKUP($A17,#REF!,5,FALSE),"n/a") -> n/a | X17: =IFERROR(VLOOKUP($A17,#REF!,6,FALSE),"n/a") -> n/a
A18: SFY | B18: MF | C18: =VLOOKUP(A18,#REF!,2,FALSE) -> #REF! | F18: =VLOOKUP(A18,#REF!,6,FALSE) -> #REF! | G18: =VLOOKUP(A18,#REF!,8,FALSE)/1000000 -> #REF! | H18: =VLOOKUP(A18,#REF!,14,FALSE)/1000000 -> #REF! | I18: =VLOOKUP(A18,#REF!,18,FALSE)/1000000 -> #REF! | J18: =VLOOKUP(A18,#REF!,5,FALSE) -> #REF! | K18: =VLOOKUP(A18,#REF!,7,FALSE) -> #REF! | L18: =VLOOKUP(A18,#REF!,4,FALSE) -> #REF! | M18: =_xlfn.IFNA(VLOOKUP(A18,#REF!,5,FALSE),"n/a") -> #REF! | N18: =_xlfn.IFNA(VLOOKUP(A18,#REF!,7,FALSE),"n/a") -> #REF! | P18: =IFERROR(VLOOKUP($A18,#REF!,6,FALSE)/100,"n/a") -> n/a | Q18: =VLOOKUP($A18,#REF!,21,FALSE)/100 -> #REF! | R18: =VLOOKUP($A18,#REF!,22,FALSE)/100 -> #REF! | T18: =IFERROR((VLOOKUP($A18,#REF!,20,FALSE)/100)/P18,"n/a") -> n/a | U18: =IFERROR(VLOOKUP($A18,#REF!,3,FALSE),"n/a") -> n/a | V18: =IFERROR(VLOOKUP($A18,#REF!,4,FALSE),"n/a") -> n/a | W18: =IFERROR(VLOOKUP($A18,#REF!,5,FALSE),"n/a") -> n/a | X18: =IFERROR(VLOOKUP($A18,#REF!,6,FALSE),"n/a") -> n/a
